BEGIN:VCALENDAR
VERSION:2.0
PRODID:-//www.mslienka.sk - ECPv6.15.20//NONSGML v1.0//EN
CALSCALE:GREGORIAN
METHOD:PUBLISH
X-ORIGINAL-URL:https://www.mslienka.sk
X-WR-CALDESC:Udalosti pre www.mslienka.sk
REFRESH-INTERVAL;VALUE=DURATION:PT1H
X-Robots-Tag:noindex
X-PUBLISHED-TTL:PT1H
BEGIN:VTIMEZONE
TZID:Europe/Bratislava
BEGIN:DAYLIGHT
TZOFFSETFROM:+0100
TZOFFSETTO:+0200
TZNAME:CEST
DTSTART:20180325T010000
END:DAYLIGHT
BEGIN:STANDARD
TZOFFSETFROM:+0200
TZOFFSETTO:+0100
TZNAME:CET
DTSTART:20181028T010000
END:STANDARD
BEGIN:DAYLIGHT
TZOFFSETFROM:+0100
TZOFFSETTO:+0200
TZNAME:CEST
DTSTART:20190331T010000
END:DAYLIGHT
BEGIN:STANDARD
TZOFFSETFROM:+0200
TZOFFSETTO:+0100
TZNAME:CET
DTSTART:20191027T010000
END:STANDARD
BEGIN:DAYLIGHT
TZOFFSETFROM:+0100
TZOFFSETTO:+0200
TZNAME:CEST
DTSTART:20200329T010000
END:DAYLIGHT
BEGIN:STANDARD
TZOFFSETFROM:+0200
TZOFFSETTO:+0100
TZNAME:CET
DTSTART:20201025T010000
END:STANDARD
END:VTIMEZONE
BEGIN:VEVENT
DTSTART;TZID=Europe/Bratislava:20190513T151500
DTEND;TZID=Europe/Bratislava:20190513T160000
DTSTAMP:20260421T011621
CREATED:20190425T134537Z
LAST-MODIFIED:20190425T134537Z
UID:2059-1557760500-1557763200@www.mslienka.sk
SUMMARY:Besiedka prvákov
DESCRIPTION:Besiedka prvákov  \nMilé mamičky\, babičky\, staré mamy ale aj oteckovia onedlho bude Deň Matiek a pani učiteľky s deťmi chystajú pre Vás program na ktorý\, Vás srdečne pozývame.
URL:https://www.mslienka.sk/udalosti/besiedka-prvakov/
LOCATION:Škôlka Lienka\, Nevädzová 12\, Bratislava\, 82101\, Slovenská republika
CATEGORIES:Tanečné vystúpenie
ATTACH;FMTTYPE=image/jpeg:https://www.mslienka.sk/wp-content/uploads/2019/04/Den_matiek.jpg
END:VEVENT
BEGIN:VEVENT
DTSTART;TZID=Europe/Bratislava:20190426T090000
DTEND;TZID=Europe/Bratislava:20190426T100000
DTSTAMP:20260421T011621
CREATED:20190408T142440Z
LAST-MODIFIED:20190408T142440Z
UID:1996-1556269200-1556272800@www.mslienka.sk
SUMMARY:Kocúr v čižmách
DESCRIPTION:Predstavenie Kocúr v čižmách – Divadlo Bum Bác \nEliška Gregoričková a Marián Gregorička vyrozprávajú a zahrajú deťom príbeh o priateľstve mlynárskeho syna Janka s kocúrom Felixom\, ktorý rozprával ľudskou rečou a konal tak\, ako by sme my ľudia očakávali od svojich priateľov. \nKocúr spraví z Janka bohatého a urodzeného človeka\, musia však spolu prekonať viaceré prekážky. O prekvapenia a humorné situácie sa postarajú ďalšie postavy: Mudrc Domased\, ktorý hovorí len v prísloviach\, veľký Čarodejník\, ktorému fandí aj sám David Copperfield\, no a o najväčšie prekvapenie sa postará sama princezná.
URL:https://www.mslienka.sk/udalosti/kocur-v-cizmach/
LOCATION:Škôlka Lienka\, Nevädzová 12\, Bratislava\, 82101\, Slovenská republika
CATEGORIES:Divadielko
ATTACH;FMTTYPE=image/jpeg:https://www.mslienka.sk/wp-content/uploads/2019/04/kocur-v-cizmach.jpg
END:VEVENT
BEGIN:VEVENT
DTSTART;TZID=Europe/Bratislava:20190305T090000
DTEND;TZID=Europe/Bratislava:20190305T100000
DTSTAMP:20260421T011621
CREATED:20180126T224510Z
LAST-MODIFIED:20190222T192100Z
UID:1026-1551776400-1551780000@www.mslienka.sk
SUMMARY:Karneval 5.3.2019
DESCRIPTION:Karneval 5.6.2019
URL:https://www.mslienka.sk/udalosti/karneval/
LOCATION:Škôlka Lienka\, Nevädzová 12\, Bratislava\, 82101\, Slovenská republika
CATEGORIES:Karneval
ATTACH;FMTTYPE=image/jpeg:https://www.mslienka.sk/wp-content/uploads/2018/01/karneval.jpg
END:VEVENT
END:VCALENDAR