BEGIN:VCALENDAR
VERSION:2.0
PRODID:-//www.mslienka.sk - ECPv6.15.20//NONSGML v1.0//EN
CALSCALE:GREGORIAN
METHOD:PUBLISH
X-WR-CALNAME:www.mslienka.sk
X-ORIGINAL-URL:https://www.mslienka.sk
X-WR-CALDESC:Udalosti pre www.mslienka.sk
REFRESH-INTERVAL;VALUE=DURATION:PT1H
X-Robots-Tag:noindex
X-PUBLISHED-TTL:PT1H
BEGIN:VTIMEZONE
TZID:Europe/Bratislava
BEGIN:DAYLIGHT
TZOFFSETFROM:+0100
TZOFFSETTO:+0200
TZNAME:CEST
DTSTART:20180325T010000
END:DAYLIGHT
BEGIN:STANDARD
TZOFFSETFROM:+0200
TZOFFSETTO:+0100
TZNAME:CET
DTSTART:20181028T010000
END:STANDARD
BEGIN:DAYLIGHT
TZOFFSETFROM:+0100
TZOFFSETTO:+0200
TZNAME:CEST
DTSTART:20190331T010000
END:DAYLIGHT
BEGIN:STANDARD
TZOFFSETFROM:+0200
TZOFFSETTO:+0100
TZNAME:CET
DTSTART:20191027T010000
END:STANDARD
BEGIN:DAYLIGHT
TZOFFSETFROM:+0100
TZOFFSETTO:+0200
TZNAME:CEST
DTSTART:20200329T010000
END:DAYLIGHT
BEGIN:STANDARD
TZOFFSETFROM:+0200
TZOFFSETTO:+0100
TZNAME:CET
DTSTART:20201025T010000
END:STANDARD
BEGIN:DAYLIGHT
TZOFFSETFROM:+0100
TZOFFSETTO:+0200
TZNAME:CEST
DTSTART:20210328T010000
END:DAYLIGHT
BEGIN:STANDARD
TZOFFSETFROM:+0200
TZOFFSETTO:+0100
TZNAME:CET
DTSTART:20211031T010000
END:STANDARD
END:VTIMEZONE
BEGIN:VEVENT
DTSTART;TZID=Europe/Bratislava:20200911T090000
DTEND;TZID=Europe/Bratislava:20200911T110000
DTSTAMP:20260420T201007
CREATED:20200805T110629Z
LAST-MODIFIED:20200805T112308Z
UID:2665-1599814800-1599822000@www.mslienka.sk
SUMMARY:Sokoliari - Falconarii
DESCRIPTION:Sokoliari – Falconarii
URL:https://www.mslienka.sk/udalosti/sokoliari-falconarii/
LOCATION:Škôlka Lienka\, Nevädzová 12\, Bratislava\, 82101\, Slovenská republika
CATEGORIES:Zvieratká
ATTACH;FMTTYPE=image/jpeg:https://www.mslienka.sk/wp-content/uploads/2020/08/sokoliari.jpg
END:VEVENT
BEGIN:VEVENT
DTSTART;VALUE=DATE:20200701
DTEND;VALUE=DATE:20200901
DTSTAMP:20260420T201007
CREATED:20190621T140305Z
LAST-MODIFIED:20200602T130628Z
UID:2136-1593561600-1598918399@www.mslienka.sk
SUMMARY:Letné prázdniny
DESCRIPTION:Letné prázdniny od 1.7.-31.8.2020 \n 
URL:https://www.mslienka.sk/udalosti/letne-prazdniny/
LOCATION:Škôlka Lienka\, Nevädzová 12\, Bratislava\, 82101\, Slovenská republika
CATEGORIES:Letné prázdniny
ATTACH;FMTTYPE=image/jpeg:https://www.mslienka.sk/wp-content/uploads/2019/06/prazdniny.jpeg
END:VEVENT
BEGIN:VEVENT
DTSTART;TZID=Europe/Bratislava:20200529T090000
DTEND;TZID=Europe/Bratislava:20200529T120000
DTSTAMP:20260420T201007
CREATED:20190506T132229Z
LAST-MODIFIED:20191115T103543Z
UID:2104-1590742800-1590753600@www.mslienka.sk
SUMMARY:Mini olympiáda
DESCRIPTION:Mini olympiáda v spolupráci s Ružinovským športovým klubom.
URL:https://www.mslienka.sk/udalosti/mini-olympiada/
LOCATION:Škôlka Lienka\, Nevädzová 12\, Bratislava\, 82101\, Slovenská republika
CATEGORIES:Mini olympiáda
ATTACH;FMTTYPE=image/png:https://www.mslienka.sk/wp-content/uploads/2019/05/miniolympiada.png
END:VEVENT
BEGIN:VEVENT
DTSTART;VALUE=DATE:20200409
DTEND;VALUE=DATE:20200415
DTSTAMP:20260420T201007
CREATED:20191114T164117Z
LAST-MODIFIED:20191114T164117Z
UID:2344-1586390400-1586908799@www.mslienka.sk
SUMMARY:Veľkonočné prázdniny
DESCRIPTION:9.4.- 14.4 – Veľkonočné prázdniny na školách je potrebné odhlásiť deti\, ktoré neprídu do škôlky
URL:https://www.mslienka.sk/udalosti/velkonocne-prazdniny/
LOCATION:Škôlka Lienka\, Nevädzová 12\, Bratislava\, 82101\, Slovenská republika
CATEGORIES:Veľkonočné prázdniny
ATTACH;FMTTYPE=image/png:https://www.mslienka.sk/wp-content/uploads/2019/11/velkonocne_prazdniny.png
END:VEVENT
BEGIN:VEVENT
DTSTART;TZID=Europe/Bratislava:20200313T090000
DTEND;TZID=Europe/Bratislava:20200313T100000
DTSTAMP:20260420T201007
CREATED:20191114T162926Z
LAST-MODIFIED:20200228T095130Z
UID:2337-1584090000-1584093600@www.mslienka.sk
SUMMARY:Šašo Maroš-Šašaráda
DESCRIPTION:Predstavenie: Šašaráda \nŠašo Maroš sa vracia z cirkusového turné a presviedča deti\, že v cirkuse sa z neho stal hudobný virtuóz\, možno i kúzelník\na že vôbec nezabudol predovšetkým zabávať deti.
URL:https://www.mslienka.sk/udalosti/saso-maros-sasarada/
LOCATION:Škôlka Lienka\, Nevädzová 12\, Bratislava\, 82101\, Slovenská republika
CATEGORIES:Divadielko
ATTACH;FMTTYPE=image/jpeg:https://www.mslienka.sk/wp-content/uploads/2020/02/saso_maros_lienka-e1582883656607.jpg
END:VEVENT
BEGIN:VEVENT
DTSTART;TZID=Europe/Bratislava:20200228T090000
DTEND;TZID=Europe/Bratislava:20200228T100000
DTSTAMP:20260420T201007
CREATED:20191114T152627Z
LAST-MODIFIED:20191114T152627Z
UID:2332-1582880400-1582884000@www.mslienka.sk
SUMMARY:Divadlo Dúha-O neposlušnej mamičke
DESCRIPTION:Predstavenie: O neposlušnej mamičke \n 
URL:https://www.mslienka.sk/udalosti/divadlo-duha-o-neposlusnej-mamicke/
LOCATION:Škôlka Lienka\, Nevädzová 12\, Bratislava\, 82101\, Slovenská republika
CATEGORIES:Divadielko
ATTACH;FMTTYPE=image/jpeg:https://www.mslienka.sk/wp-content/uploads/2019/11/divadlo_duha_o_neposlusnej_mamicke.jpg
END:VEVENT
BEGIN:VEVENT
DTSTART;VALUE=DATE:20200217
DTEND;VALUE=DATE:20200222
DTSTAMP:20260420T201007
CREATED:20191114T151746Z
LAST-MODIFIED:20191114T152332Z
UID:2329-1581897600-1582329599@www.mslienka.sk
SUMMARY:Jarné prázdniny
DESCRIPTION:17.2 – 21.2  – Jarné prázdniny na školách je potrebné odhlásiť deti\, ktoré neprídu do škôlky
URL:https://www.mslienka.sk/udalosti/jarne-prazdniny/
LOCATION:Škôlka Lienka\, Nevädzová 12\, Bratislava\, 82101\, Slovenská republika
CATEGORIES:Jarné prázdniny
ATTACH;FMTTYPE=image/jpeg:https://www.mslienka.sk/wp-content/uploads/2019/11/jarne_prazdniny.jpg
END:VEVENT
BEGIN:VEVENT
DTSTART;TZID=Europe/Bratislava:20200207T090000
DTEND;TZID=Europe/Bratislava:20200207T110000
DTSTAMP:20260420T201007
CREATED:20191114T150029Z
LAST-MODIFIED:20191114T150029Z
UID:2322-1581066000-1581073200@www.mslienka.sk
SUMMARY:Karneval pre deti na tému Zvieratká
DESCRIPTION:Karneval pre deti na tému Zvieratká
URL:https://www.mslienka.sk/udalosti/karneval-pre-deti-na-temu-zvieratka/
LOCATION:Škôlka Lienka\, Nevädzová 12\, Bratislava\, 82101\, Slovenská republika
CATEGORIES:Karneval
ATTACH;FMTTYPE=image/jpeg:https://www.mslienka.sk/wp-content/uploads/2019/11/karneval_zvieratka.jpg
END:VEVENT
BEGIN:VEVENT
DTSTART;TZID=Europe/Bratislava:20200131T090000
DTEND;TZID=Europe/Bratislava:20200131T100000
DTSTAMP:20260420T201007
CREATED:20191114T145314Z
LAST-MODIFIED:20191114T145408Z
UID:2319-1580461200-1580464800@www.mslienka.sk
SUMMARY:Viktor - Pesnička je liek
DESCRIPTION:Viktor – Pesnička je liek \nProgram pre Materské školy \nNa čo sa môžu deti tešiť? \nV programe ich čaká veľa veselých pesničiek\, pri ktorých si môžu nielen s chuťou zaspievať\, ale môžu sa aj aktívne zapojiť hrou\, napodobňovaním či hádaním a takto sa nenásilnou formou niečo nové naučiť a samozrejme zabaviť. \nDeti sa na chvíľu ocitnú medzi domácimi a lesnými zvieratkami\, zoznámia sa s ich hlasmi a pohybmi. Zahrajú sa na remeselníkov. Veľkým zážitkom je pre deti pieseň „Afrika“\, pri ktorej sa naučia cudzie reči. Nebudú chýbať pesničky „Blcha“\, „Farby“\, „Kamarát“ a iné. Na záver si zacvičia a pri pesničke „Šašo“ si deti určite rady zatancujú a vyšantia sa.
URL:https://www.mslienka.sk/udalosti/viktor-pesnicka-je-liek/
LOCATION:Škôlka Lienka\, Nevädzová 12\, Bratislava\, 82101\, Slovenská republika
CATEGORIES:Koncert
ATTACH;FMTTYPE=image/png:https://www.mslienka.sk/wp-content/uploads/2019/11/viktor.png
END:VEVENT
BEGIN:VEVENT
DTSTART;TZID=Europe/Bratislava:20191216T090000
DTEND;TZID=Europe/Bratislava:20191216T100000
DTSTAMP:20260420T201007
CREATED:20190903T155635Z
LAST-MODIFIED:20190904T090443Z
UID:2260-1576486800-1576490400@www.mslienka.sk
SUMMARY:Zázračný kľúčik
DESCRIPTION:Zázračný kľúčik \nTáto rozprávka je zámerne plná našich ľudových hudobných nástrojov. Nejde o nudné predvádzanie nástrojov. Je to celé ukryté v rozprávke. Každý nástroj je vlastne postavička\, ktorá má svoju charakteristiku a ktorú privádzajú k životu zázračnou riekankou deti a samozrejme\, je im na pomoci aj zázračný kľúčik – drumbľa. Voľakedy dávno sa veru krásne žilo v krajine pod Tatrami… Vtáčiky spievali\, ovečky zvonili zvoncami\, ľudia si vyrábali hudobné nástroje a ich hlas sa niesol ďaleko pomedzi vrchy a doliny. Jednému tatranskému štítu – Hrdému – to ale tak prekážalo\, že zvoncom vzal hlas a hudobné nástroje ukryl do jednej jaskyne! No keď zmizli hudobné nástroje\, ľudia si prestali spievať a tešiť sa zo života. Napokon zasiahol mocný vládca vrchov – Gerlach. Zo svojho vnútra vytrhol veľkú skalu a hodil ju na Hrdý štít. Skala ten pyšný štít trochu ohla a Hrdý sa už odvtedy nevládal narovnať. Veru! Od tých čias ho len Kriváňom volajú! Myslíte si\, že je to šťastný koniec? Veru nie… Srdcia zvoncom opravíš\, ale srdcia ľudí musíš napraviť. A kedy je ten čas najpríhodnejší? Predsa na Vianoce! A kto je ten\, čo to dokáže? Predsa deti. A hlavne tie malé – nevinné – práve narodené… \n 
URL:https://www.mslienka.sk/udalosti/zazracny-klucik/
LOCATION:Škôlka Lienka\, Nevädzová 12\, Bratislava\, 82101\, Slovenská republika
CATEGORIES:Divadielko
ATTACH;FMTTYPE=image/jpeg:https://www.mslienka.sk/wp-content/uploads/2019/09/carovny_klucik.jpg
END:VEVENT
BEGIN:VEVENT
DTSTART;TZID=Europe/Bratislava:20190910T160000
DTEND;TZID=Europe/Bratislava:20190910T170000
DTSTAMP:20260420T201007
CREATED:20190626T110527Z
LAST-MODIFIED:20190828T142740Z
UID:2149-1568131200-1568134800@www.mslienka.sk
SUMMARY:Rodičovské združenie všetkých rodičov
DESCRIPTION:Rodičovské združenie všetkých rodičov. Účasť rodičov nutná! \nPočas rodičovského združenia sa uskutočnia aj voľby zástupcu do Rady školy pre MŠ Pivonková 9\, ako aj voľby nových členov pre RZ a to predsedníčku a hospodárku RZ. Pripravené budú prezenčné listiny\, ktoré poprosím podpísať po skončení rodičovského združenia.
URL:https://www.mslienka.sk/udalosti/rodicovske-zdruzenie-vsetkych-rodicov/
LOCATION:Škôlka Lienka\, Nevädzová 12\, Bratislava\, 82101\, Slovenská republika
CATEGORIES:Rodičovské združenie
ATTACH;FMTTYPE=image/jpeg:https://www.mslienka.sk/wp-content/uploads/2019/06/rodicovske_zdruzenie.jpg
END:VEVENT
BEGIN:VEVENT
DTSTART;TZID=Europe/Bratislava:20190618T090000
DTEND;TZID=Europe/Bratislava:20190618T120000
DTSTAMP:20260420T201007
CREATED:20190503T113015Z
LAST-MODIFIED:20190503T113015Z
UID:2073-1560848400-1560859200@www.mslienka.sk
SUMMARY:Stomatologická preventívna prehliadka
DESCRIPTION:Stomatologická preventívna prehliadka pre prihlásené deti.
URL:https://www.mslienka.sk/udalosti/stomatologicka-prehliadka/
LOCATION:Škôlka Lienka\, Nevädzová 12\, Bratislava\, 82101\, Slovenská republika
CATEGORIES:Zubná prehliadka
ATTACH;FMTTYPE=image/png:https://www.mslienka.sk/wp-content/uploads/2019/05/zub.png
END:VEVENT
BEGIN:VEVENT
DTSTART;VALUE=DATE:20190603
DTEND;VALUE=DATE:20190608
DTSTAMP:20260420T201007
CREATED:20180124T004305Z
LAST-MODIFIED:20190402T063953Z
UID:971-1559520000-1559951999@www.mslienka.sk
SUMMARY:Škôlka v prírode
DESCRIPTION:Škôlka v prírode Obyce v Partizan Resort
URL:https://www.mslienka.sk/udalosti/skolka-v-prirode/
LOCATION:Obyce\, Obyce 201\, Obyce\, 951 95\, Slovenská republika
CATEGORIES:Škôlka v prírode
ATTACH;FMTTYPE=image/png:https://www.mslienka.sk/wp-content/uploads/2019/02/partizan.png
END:VEVENT
BEGIN:VEVENT
DTSTART;TZID=Europe/Bratislava:20190529T083000
DTEND;TZID=Europe/Bratislava:20190529T120000
DTSTAMP:20260420T201007
CREATED:20190503T113937Z
LAST-MODIFIED:20190503T124941Z
UID:2077-1559118600-1559131200@www.mslienka.sk
SUMMARY:Exkurzia na jahodovú plantáž pre 3. a 4.triedu
DESCRIPTION:Exkurzia na jahodovú plantáž do Dunajskej Lužnej pre tretiakov a štvrtákov. Deti sa dozvedia informácie o pestovaní a spracovaní ovocia hravým a veku primeraným spôsobom. Budú môcť ochutnať ovocie a ovocné produkty.
URL:https://www.mslienka.sk/udalosti/exkurzia-na-jahodovu-plantaz/
LOCATION:Škôlka Lienka\, Nevädzová 12\, Bratislava\, 82101\, Slovenská republika
CATEGORIES:Výlet
ATTACH;FMTTYPE=image/jpeg:https://www.mslienka.sk/wp-content/uploads/2019/05/jahoda-1.jpg
END:VEVENT
BEGIN:VEVENT
DTSTART;TZID=Europe/Bratislava:20190524T090000
DTEND;TZID=Europe/Bratislava:20190524T110000
DTSTAMP:20260420T201007
CREATED:20180126T224044Z
LAST-MODIFIED:20190227T113136Z
UID:1023-1558688400-1558695600@www.mslienka.sk
SUMMARY:Poníky 24.5.2019
DESCRIPTION:Poníky 24.5.2019
URL:https://www.mslienka.sk/udalosti/poniky/
LOCATION:Škôlka Lienka\, Nevädzová 12\, Bratislava\, 82101\, Slovenská republika
CATEGORIES:Poníky
ATTACH;FMTTYPE=image/jpeg:https://www.mslienka.sk/wp-content/uploads/2018/01/ANIMOTERAPIA.jpg
END:VEVENT
BEGIN:VEVENT
DTSTART;TZID=Europe/Bratislava:20190516T153000
DTEND;TZID=Europe/Bratislava:20190516T160000
DTSTAMP:20260420T201007
CREATED:20190425T135303Z
LAST-MODIFIED:20190425T140215Z
UID:2064-1558020600-1558022400@www.mslienka.sk
SUMMARY:Besiedka tretiakov
DESCRIPTION:Besiedka tretiakov \nMilé mamičky\, babičky\, staré mamy ale aj oteckovia onedlho bude Deň Matiek a pani učiteľky s deťmi chystajú pre Vás program na ktorý\, Vás srdečne pozývame.
URL:https://www.mslienka.sk/udalosti/besiedka-tretiakov/
LOCATION:Škôlka Lienka\, Nevädzová 12\, Bratislava\, 82101\, Slovenská republika
CATEGORIES:Tanečné vystúpenie
ATTACH;FMTTYPE=image/jpeg:https://www.mslienka.sk/wp-content/uploads/2019/04/Den_matiek.jpg
END:VEVENT
BEGIN:VEVENT
DTSTART;TZID=Europe/Bratislava:20190515T153000
DTEND;TZID=Europe/Bratislava:20190515T160000
DTSTAMP:20260420T201007
CREATED:20190425T134714Z
LAST-MODIFIED:20190425T140138Z
UID:2062-1557934200-1557936000@www.mslienka.sk
SUMMARY:Besiedka druhákov
DESCRIPTION:Besiedka druhákov \nMilé mamičky\, babičky\, staré mamy ale aj oteckovia onedlho bude Deň Matiek a pani učiteľky s deťmi chystajú pre Vás program na ktorý\, Vás srdečne pozývame.
URL:https://www.mslienka.sk/udalosti/besiedka-druhakov/
LOCATION:Škôlka Lienka\, Nevädzová 12\, Bratislava\, 82101\, Slovenská republika
CATEGORIES:Tanečné vystúpenie
ATTACH;FMTTYPE=image/jpeg:https://www.mslienka.sk/wp-content/uploads/2019/04/Den_matiek.jpg
END:VEVENT
BEGIN:VEVENT
DTSTART;TZID=Europe/Bratislava:20190514T151500
DTEND;TZID=Europe/Bratislava:20190514T160000
DTSTAMP:20260420T201007
CREATED:20190425T135439Z
LAST-MODIFIED:20190425T140023Z
UID:2066-1557846900-1557849600@www.mslienka.sk
SUMMARY:Besiedka štvrtákov
DESCRIPTION:Besiedka štvrtákov \nMilé mamičky\, babičky\, staré mamy ale aj oteckovia onedlho bude Deň Matiek a pani učiteľky s deťmi chystajú pre Vás program na ktorý\, Vás srdečne pozývame.
URL:https://www.mslienka.sk/udalosti/besiedka-stvrtakov/
LOCATION:Škôlka Lienka\, Nevädzová 12\, Bratislava\, 82101\, Slovenská republika
CATEGORIES:Tanečné vystúpenie
ATTACH;FMTTYPE=image/jpeg:https://www.mslienka.sk/wp-content/uploads/2019/04/Den_matiek.jpg
END:VEVENT
BEGIN:VEVENT
DTSTART;TZID=Europe/Bratislava:20190513T151500
DTEND;TZID=Europe/Bratislava:20190513T160000
DTSTAMP:20260420T201007
CREATED:20190425T134537Z
LAST-MODIFIED:20190425T134537Z
UID:2059-1557760500-1557763200@www.mslienka.sk
SUMMARY:Besiedka prvákov
DESCRIPTION:Besiedka prvákov  \nMilé mamičky\, babičky\, staré mamy ale aj oteckovia onedlho bude Deň Matiek a pani učiteľky s deťmi chystajú pre Vás program na ktorý\, Vás srdečne pozývame.
URL:https://www.mslienka.sk/udalosti/besiedka-prvakov/
LOCATION:Škôlka Lienka\, Nevädzová 12\, Bratislava\, 82101\, Slovenská republika
CATEGORIES:Tanečné vystúpenie
ATTACH;FMTTYPE=image/jpeg:https://www.mslienka.sk/wp-content/uploads/2019/04/Den_matiek.jpg
END:VEVENT
BEGIN:VEVENT
DTSTART;TZID=Europe/Bratislava:20190426T090000
DTEND;TZID=Europe/Bratislava:20190426T100000
DTSTAMP:20260420T201007
CREATED:20190408T142440Z
LAST-MODIFIED:20190408T142440Z
UID:1996-1556269200-1556272800@www.mslienka.sk
SUMMARY:Kocúr v čižmách
DESCRIPTION:Predstavenie Kocúr v čižmách – Divadlo Bum Bác \nEliška Gregoričková a Marián Gregorička vyrozprávajú a zahrajú deťom príbeh o priateľstve mlynárskeho syna Janka s kocúrom Felixom\, ktorý rozprával ľudskou rečou a konal tak\, ako by sme my ľudia očakávali od svojich priateľov. \nKocúr spraví z Janka bohatého a urodzeného človeka\, musia však spolu prekonať viaceré prekážky. O prekvapenia a humorné situácie sa postarajú ďalšie postavy: Mudrc Domased\, ktorý hovorí len v prísloviach\, veľký Čarodejník\, ktorému fandí aj sám David Copperfield\, no a o najväčšie prekvapenie sa postará sama princezná.
URL:https://www.mslienka.sk/udalosti/kocur-v-cizmach/
LOCATION:Škôlka Lienka\, Nevädzová 12\, Bratislava\, 82101\, Slovenská republika
CATEGORIES:Divadielko
ATTACH;FMTTYPE=image/jpeg:https://www.mslienka.sk/wp-content/uploads/2019/04/kocur-v-cizmach.jpg
END:VEVENT
BEGIN:VEVENT
DTSTART;TZID=Europe/Bratislava:20190305T090000
DTEND;TZID=Europe/Bratislava:20190305T100000
DTSTAMP:20260420T201007
CREATED:20180126T224510Z
LAST-MODIFIED:20190222T192100Z
UID:1026-1551776400-1551780000@www.mslienka.sk
SUMMARY:Karneval 5.3.2019
DESCRIPTION:Karneval 5.6.2019
URL:https://www.mslienka.sk/udalosti/karneval/
LOCATION:Škôlka Lienka\, Nevädzová 12\, Bratislava\, 82101\, Slovenská republika
CATEGORIES:Karneval
ATTACH;FMTTYPE=image/jpeg:https://www.mslienka.sk/wp-content/uploads/2018/01/karneval.jpg
END:VEVENT
END:VCALENDAR